BEGIN:VCALENDAR
VERSION:2.0
PRODID:-//American Parkour - ECPv6.15.20//NONSGML v1.0//EN
CALSCALE:GREGORIAN
METHOD:PUBLISH
X-WR-CALNAME:American Parkour
X-ORIGINAL-URL:https://americanparkour.com
X-WR-CALDESC:Events for American Parkour
REFRESH-INTERVAL;VALUE=DURATION:PT1H
X-Robots-Tag:noindex
X-PUBLISHED-TTL:PT1H
BEGIN:VTIMEZONE
TZID:America/New_York
BEGIN:DAYLIGHT
TZOFFSETFROM:-0500
TZOFFSETTO:-0400
TZNAME:EDT
DTSTART:20250309T070000
END:DAYLIGHT
BEGIN:STANDARD
TZOFFSETFROM:-0400
TZOFFSETTO:-0500
TZNAME:EST
DTSTART:20251102T060000
END:STANDARD
BEGIN:DAYLIGHT
TZOFFSETFROM:-0500
TZOFFSETTO:-0400
TZNAME:EDT
DTSTART:20260308T070000
END:DAYLIGHT
BEGIN:STANDARD
TZOFFSETFROM:-0400
TZOFFSETTO:-0500
TZNAME:EST
DTSTART:20261101T060000
END:STANDARD
BEGIN:DAYLIGHT
TZOFFSETFROM:-0500
TZOFFSETTO:-0400
TZNAME:EDT
DTSTART:20270314T070000
END:DAYLIGHT
BEGIN:STANDARD
TZOFFSETFROM:-0400
TZOFFSETTO:-0500
TZNAME:EST
DTSTART:20271107T060000
END:STANDARD
END:VTIMEZONE
BEGIN:VTIMEZONE
TZID:Europe/London
BEGIN:DAYLIGHT
TZOFFSETFROM:+0000
TZOFFSETTO:+0100
TZNAME:BST
DTSTART:20250330T010000
END:DAYLIGHT
BEGIN:STANDARD
TZOFFSETFROM:+0100
TZOFFSETTO:+0000
TZNAME:GMT
DTSTART:20251026T010000
END:STANDARD
BEGIN:DAYLIGHT
TZOFFSETFROM:+0000
TZOFFSETTO:+0100
TZNAME:BST
DTSTART:20260329T010000
END:DAYLIGHT
BEGIN:STANDARD
TZOFFSETFROM:+0100
TZOFFSETTO:+0000
TZNAME:GMT
DTSTART:20261025T010000
END:STANDARD
BEGIN:DAYLIGHT
TZOFFSETFROM:+0000
TZOFFSETTO:+0100
TZNAME:BST
DTSTART:20270328T010000
END:DAYLIGHT
BEGIN:STANDARD
TZOFFSETFROM:+0100
TZOFFSETTO:+0000
TZNAME:GMT
DTSTART:20271031T010000
END:STANDARD
END:VTIMEZONE
BEGIN:VTIMEZONE
TZID:America/Detroit
BEGIN:DAYLIGHT
TZOFFSETFROM:-0500
TZOFFSETTO:-0400
TZNAME:EDT
DTSTART:20250309T070000
END:DAYLIGHT
BEGIN:STANDARD
TZOFFSETFROM:-0400
TZOFFSETTO:-0500
TZNAME:EST
DTSTART:20251102T060000
END:STANDARD
BEGIN:DAYLIGHT
TZOFFSETFROM:-0500
TZOFFSETTO:-0400
TZNAME:EDT
DTSTART:20260308T070000
END:DAYLIGHT
BEGIN:STANDARD
TZOFFSETFROM:-0400
TZOFFSETTO:-0500
TZNAME:EST
DTSTART:20261101T060000
END:STANDARD
BEGIN:DAYLIGHT
TZOFFSETFROM:-0500
TZOFFSETTO:-0400
TZNAME:EDT
DTSTART:20270314T070000
END:DAYLIGHT
BEGIN:STANDARD
TZOFFSETFROM:-0400
TZOFFSETTO:-0500
TZNAME:EST
DTSTART:20271107T060000
END:STANDARD
END:VTIMEZONE
BEGIN:VTIMEZONE
TZID:America/Los_Angeles
BEGIN:DAYLIGHT
TZOFFSETFROM:-0800
TZOFFSETTO:-0700
TZNAME:PDT
DTSTART:20250309T100000
END:DAYLIGHT
BEGIN:STANDARD
TZOFFSETFROM:-0700
TZOFFSETTO:-0800
TZNAME:PST
DTSTART:20251102T090000
END:STANDARD
BEGIN:DAYLIGHT
TZOFFSETFROM:-0800
TZOFFSETTO:-0700
TZNAME:PDT
DTSTART:20260308T100000
END:DAYLIGHT
BEGIN:STANDARD
TZOFFSETFROM:-0700
TZOFFSETTO:-0800
TZNAME:PST
DTSTART:20261101T090000
END:STANDARD
BEGIN:DAYLIGHT
TZOFFSETFROM:-0800
TZOFFSETTO:-0700
TZNAME:PDT
DTSTART:20270314T100000
END:DAYLIGHT
BEGIN:STANDARD
TZOFFSETFROM:-0700
TZOFFSETTO:-0800
TZNAME:PST
DTSTART:20271107T090000
END:STANDARD
END:VTIMEZONE
BEGIN:VTIMEZONE
TZID:Asia/Tokyo
BEGIN:STANDARD
TZOFFSETFROM:+0900
TZOFFSETTO:+0900
TZNAME:JST
DTSTART:20250101T000000
END:STANDARD
END:VTIMEZONE
BEGIN:VEVENT
DTSTART;VALUE=DATE:20260626
DTEND;VALUE=DATE:20260629
DTSTAMP:20260423T025124
CREATED:20260411T132033Z
LAST-MODIFIED:20260411T132033Z
UID:252431-1782432000-1782691199@americanparkour.com
SUMMARY:American Rendezvous 2026 - International Parkour Workshop
DESCRIPTION:A major international parkour event organized by Parkour Generations Americas\, bringing together coaches and practitioners from across the globe for a weekend of workshops\, training\, and community. Tickets available via Eventbrite.
URL:https://americanparkour.com/event-frame/american-rendezvous-2026-international-parkour-workshop/
CATEGORIES:Community Event
END:VEVENT
BEGIN:VEVENT
DTSTART;VALUE=DATE:20260717
DTEND;VALUE=DATE:20260720
DTSTAMP:20260423T025124
CREATED:20260411T140414Z
LAST-MODIFIED:20260411T140417Z
UID:252405-1784246400-1784505599@americanparkour.com
SUMMARY:Obsidian Gathering UK 2026
DESCRIPTION:
URL:https://americanparkour.com/event-frame/obsidian-gathering-uk-2026/
END:VEVENT
BEGIN:VEVENT
DTSTART;TZID=America/Detroit:20260724T120000
DTEND;TZID=America/Detroit:20260724T200000
DTSTAMP:20260423T025124
CREATED:20260411T132035Z
LAST-MODIFIED:20260411T132035Z
UID:252432-1784894400-1784923200@americanparkour.com
SUMMARY:Twisted Style Freerunning
DESCRIPTION:Freerunning event at Montmorency County Fairgrounds in Atlanta\, Michigan. Community gathering for freerunning and movement arts.
URL:https://americanparkour.com/event-frame/twisted-style-freerunning/
CATEGORIES:Community Event
END:VEVENT
BEGIN:VEVENT
DTSTART;VALUE=DATE:20260807
DTEND;VALUE=DATE:20260810
DTSTAMP:20260423T025124
CREATED:20260411T140414Z
LAST-MODIFIED:20260411T140417Z
UID:252406-1786060800-1786319999@americanparkour.com
SUMMARY:San Francisco Jam 2026
DESCRIPTION:
URL:https://americanparkour.com/event-frame/san-francisco-jam-2026/
END:VEVENT
BEGIN:VEVENT
DTSTART;VALUE=DATE:20260904
DTEND;VALUE=DATE:20260907
DTSTAMP:20260423T025124
CREATED:20260411T140414Z
LAST-MODIFIED:20260411T140418Z
UID:252408-1788480000-1788739199@americanparkour.com
SUMMARY:Obsidian Gathering US 2026
DESCRIPTION:
URL:https://americanparkour.com/event-frame/obsidian-gathering-us-2026/
END:VEVENT
BEGIN:VEVENT
DTSTART;VALUE=DATE:20260925
DTEND;VALUE=DATE:20260928
DTSTAMP:20260423T025124
CREATED:20260411T132036Z
LAST-MODIFIED:20260411T132036Z
UID:252433-1790294400-1790553599@americanparkour.com
SUMMARY:Level 1 Parkour Coach Certification - London UK
DESCRIPTION:Parkour Generations Level 1 Coach Certification course at Parkour Generations London. A professional qualification covering parkour instruction fundamentals\, safety\, and pedagogy.
URL:https://americanparkour.com/event-frame/level-1-parkour-coach-certification-london-uk/
CATEGORIES:Education
END:VEVENT
BEGIN:VEVENT
DTSTART;VALUE=DATE:20261120
DTEND;VALUE=DATE:20261124
DTSTAMP:20260423T025124
CREATED:20260411T140414Z
LAST-MODIFIED:20260411T140418Z
UID:252409-1795132800-1795478399@americanparkour.com
SUMMARY:Japan Parkour Top Gathering 2026
DESCRIPTION:
URL:https://americanparkour.com/event-frame/japan-parkour-top-gathering-2026/
END:VEVENT
END:VCALENDAR