BEGIN:VCALENDAR
VERSION:2.0
PRODID:-//American Parkour - ECPv6.15.20//NONSGML v1.0//EN
CALSCALE:GREGORIAN
METHOD:PUBLISH
X-WR-CALNAME:American Parkour
X-ORIGINAL-URL:https://americanparkour.com
X-WR-CALDESC:Events for American Parkour
REFRESH-INTERVAL;VALUE=DURATION:PT1H
X-Robots-Tag:noindex
X-PUBLISHED-TTL:PT1H
BEGIN:VTIMEZONE
TZID:America/Denver
BEGIN:DAYLIGHT
TZOFFSETFROM:-0700
TZOFFSETTO:-0600
TZNAME:MDT
DTSTART:20250309T090000
END:DAYLIGHT
BEGIN:STANDARD
TZOFFSETFROM:-0600
TZOFFSETTO:-0700
TZNAME:MST
DTSTART:20251102T080000
END:STANDARD
BEGIN:DAYLIGHT
TZOFFSETFROM:-0700
TZOFFSETTO:-0600
TZNAME:MDT
DTSTART:20260308T090000
END:DAYLIGHT
BEGIN:STANDARD
TZOFFSETFROM:-0600
TZOFFSETTO:-0700
TZNAME:MST
DTSTART:20261101T080000
END:STANDARD
BEGIN:DAYLIGHT
TZOFFSETFROM:-0700
TZOFFSETTO:-0600
TZNAME:MDT
DTSTART:20270314T090000
END:DAYLIGHT
BEGIN:STANDARD
TZOFFSETFROM:-0600
TZOFFSETTO:-0700
TZNAME:MST
DTSTART:20271107T080000
END:STANDARD
END:VTIMEZONE
BEGIN:VTIMEZONE
TZID:America/New_York
BEGIN:DAYLIGHT
TZOFFSETFROM:-0500
TZOFFSETTO:-0400
TZNAME:EDT
DTSTART:20250309T070000
END:DAYLIGHT
BEGIN:STANDARD
TZOFFSETFROM:-0400
TZOFFSETTO:-0500
TZNAME:EST
DTSTART:20251102T060000
END:STANDARD
BEGIN:DAYLIGHT
TZOFFSETFROM:-0500
TZOFFSETTO:-0400
TZNAME:EDT
DTSTART:20260308T070000
END:DAYLIGHT
BEGIN:STANDARD
TZOFFSETFROM:-0400
TZOFFSETTO:-0500
TZNAME:EST
DTSTART:20261101T060000
END:STANDARD
BEGIN:DAYLIGHT
TZOFFSETFROM:-0500
TZOFFSETTO:-0400
TZNAME:EDT
DTSTART:20270314T070000
END:DAYLIGHT
BEGIN:STANDARD
TZOFFSETFROM:-0400
TZOFFSETTO:-0500
TZNAME:EST
DTSTART:20271107T060000
END:STANDARD
END:VTIMEZONE
BEGIN:VTIMEZONE
TZID:Europe/Athens
BEGIN:DAYLIGHT
TZOFFSETFROM:+0200
TZOFFSETTO:+0300
TZNAME:EEST
DTSTART:20250330T010000
END:DAYLIGHT
BEGIN:STANDARD
TZOFFSETFROM:+0300
TZOFFSETTO:+0200
TZNAME:EET
DTSTART:20251026T010000
END:STANDARD
BEGIN:DAYLIGHT
TZOFFSETFROM:+0200
TZOFFSETTO:+0300
TZNAME:EEST
DTSTART:20260329T010000
END:DAYLIGHT
BEGIN:STANDARD
TZOFFSETFROM:+0300
TZOFFSETTO:+0200
TZNAME:EET
DTSTART:20261025T010000
END:STANDARD
BEGIN:DAYLIGHT
TZOFFSETFROM:+0200
TZOFFSETTO:+0300
TZNAME:EEST
DTSTART:20270328T010000
END:DAYLIGHT
BEGIN:STANDARD
TZOFFSETFROM:+0300
TZOFFSETTO:+0200
TZNAME:EET
DTSTART:20271031T010000
END:STANDARD
END:VTIMEZONE
BEGIN:VTIMEZONE
TZID:America/Chicago
BEGIN:DAYLIGHT
TZOFFSETFROM:-0600
TZOFFSETTO:-0500
TZNAME:CDT
DTSTART:20250309T080000
END:DAYLIGHT
BEGIN:STANDARD
TZOFFSETFROM:-0500
TZOFFSETTO:-0600
TZNAME:CST
DTSTART:20251102T070000
END:STANDARD
BEGIN:DAYLIGHT
TZOFFSETFROM:-0600
TZOFFSETTO:-0500
TZNAME:CDT
DTSTART:20260308T080000
END:DAYLIGHT
BEGIN:STANDARD
TZOFFSETFROM:-0500
TZOFFSETTO:-0600
TZNAME:CST
DTSTART:20261101T070000
END:STANDARD
BEGIN:DAYLIGHT
TZOFFSETFROM:-0600
TZOFFSETTO:-0500
TZNAME:CDT
DTSTART:20270314T080000
END:DAYLIGHT
BEGIN:STANDARD
TZOFFSETFROM:-0500
TZOFFSETTO:-0600
TZNAME:CST
DTSTART:20271107T070000
END:STANDARD
END:VTIMEZONE
BEGIN:VTIMEZONE
TZID:Europe/Sofia
BEGIN:DAYLIGHT
TZOFFSETFROM:+0200
TZOFFSETTO:+0300
TZNAME:EEST
DTSTART:20250330T010000
END:DAYLIGHT
BEGIN:STANDARD
TZOFFSETFROM:+0300
TZOFFSETTO:+0200
TZNAME:EET
DTSTART:20251026T010000
END:STANDARD
BEGIN:DAYLIGHT
TZOFFSETFROM:+0200
TZOFFSETTO:+0300
TZNAME:EEST
DTSTART:20260329T010000
END:DAYLIGHT
BEGIN:STANDARD
TZOFFSETFROM:+0300
TZOFFSETTO:+0200
TZNAME:EET
DTSTART:20261025T010000
END:STANDARD
BEGIN:DAYLIGHT
TZOFFSETFROM:+0200
TZOFFSETTO:+0300
TZNAME:EEST
DTSTART:20270328T010000
END:DAYLIGHT
BEGIN:STANDARD
TZOFFSETFROM:+0300
TZOFFSETTO:+0200
TZNAME:EET
DTSTART:20271031T010000
END:STANDARD
END:VTIMEZONE
BEGIN:VTIMEZONE
TZID:Europe/Prague
BEGIN:DAYLIGHT
TZOFFSETFROM:+0100
TZOFFSETTO:+0200
TZNAME:CEST
DTSTART:20250330T010000
END:DAYLIGHT
BEGIN:STANDARD
TZOFFSETFROM:+0200
TZOFFSETTO:+0100
TZNAME:CET
DTSTART:20251026T010000
END:STANDARD
BEGIN:DAYLIGHT
TZOFFSETFROM:+0100
TZOFFSETTO:+0200
TZNAME:CEST
DTSTART:20260329T010000
END:DAYLIGHT
BEGIN:STANDARD
TZOFFSETFROM:+0200
TZOFFSETTO:+0100
TZNAME:CET
DTSTART:20261025T010000
END:STANDARD
BEGIN:DAYLIGHT
TZOFFSETFROM:+0100
TZOFFSETTO:+0200
TZNAME:CEST
DTSTART:20270328T010000
END:DAYLIGHT
BEGIN:STANDARD
TZOFFSETFROM:+0200
TZOFFSETTO:+0100
TZNAME:CET
DTSTART:20271031T010000
END:STANDARD
END:VTIMEZONE
BEGIN:VEVENT
DTSTART;TZID=America/Denver:20260411T140000
DTEND;TZID=America/Denver:20260411T160000
DTSTAMP:20260423T010510
CREATED:20260411T132009Z
LAST-MODIFIED:20260411T132009Z
UID:252422-1775916000-1775923200@americanparkour.com
SUMMARY:Free Parkour Sessions!
DESCRIPTION:Free parkour sessions at Fountain Mesa Park in Fountain\, Colorado — open to all ages\, stages\, and abilities. Organized by Pure Parkour Inc\, a non-profit working to build a parkour gym in Colorado Springs.
URL:https://americanparkour.com/event-frame/free-parkour-sessions/
CATEGORIES:Community Event
END:VEVENT
BEGIN:VEVENT
DTSTART;VALUE=DATE:20260418
DTEND;VALUE=DATE:20260419
DTSTAMP:20260423T010510
CREATED:20260411T140406Z
LAST-MODIFIED:20260411T140409Z
UID:252374-1776470400-1776556799@americanparkour.com
SUMMARY:USPK Northeast Qualifier at Dynamic Movement Gym
DESCRIPTION:
URL:https://americanparkour.com/event-frame/uspk-northeast-qualifier-at-dynamic-movement-gym/
END:VEVENT
BEGIN:VEVENT
DTSTART;VALUE=DATE:20260418
DTEND;VALUE=DATE:20260420
DTSTAMP:20260423T010510
CREATED:20260411T140406Z
LAST-MODIFIED:20260411T140408Z
UID:252373-1776470400-1776643199@americanparkour.com
SUMMARY:USPK Mountain West Qualifier at Nebraska Parkour
DESCRIPTION:
URL:https://americanparkour.com/event-frame/uspk-mountain-west-qualifier-at-nebraska-parkour/
END:VEVENT
BEGIN:VEVENT
DTSTART;VALUE=DATE:20260418
DTEND;VALUE=DATE:20260420
DTSTAMP:20260423T010510
CREATED:20260411T140406Z
LAST-MODIFIED:20260411T140409Z
UID:252375-1776470400-1776643199@americanparkour.com
SUMMARY:USPK Northwest Qualifier at Krete Academy
DESCRIPTION:
URL:https://americanparkour.com/event-frame/uspk-northwest-qualifier-at-krete-academy/
END:VEVENT
BEGIN:VEVENT
DTSTART;VALUE=DATE:20260418
DTEND;VALUE=DATE:20260420
DTSTAMP:20260423T010510
CREATED:20260411T140406Z
LAST-MODIFIED:20260411T140409Z
UID:252376-1776470400-1776643199@americanparkour.com
SUMMARY:USPK West Coast Qualifier at Rogue Parkour Gym
DESCRIPTION:
URL:https://americanparkour.com/event-frame/uspk-west-coast-qualifier-at-rogue-parkour-gym/
END:VEVENT
BEGIN:VEVENT
DTSTART;VALUE=DATE:20260424
DTEND;VALUE=DATE:20260425
DTSTAMP:20260423T010510
CREATED:20260411T140406Z
LAST-MODIFIED:20260411T140410Z
UID:252377-1776988800-1777075199@americanparkour.com
SUMMARY:USPK Northeast Qualifier at HUB Parkour
DESCRIPTION:
URL:https://americanparkour.com/event-frame/uspk-northeast-qualifier-at-hub-parkour/
END:VEVENT
BEGIN:VEVENT
DTSTART;VALUE=DATE:20260424
DTEND;VALUE=DATE:20260428
DTSTAMP:20260423T010510
CREATED:20260411T132011Z
LAST-MODIFIED:20260411T132011Z
UID:252423-1776988800-1777334399@americanparkour.com
SUMMARY:12th Athens International Parkour Gathering
DESCRIPTION:The 12th annual Athens International Parkour Gathering\, bringing together practitioners from around the world for four days of movement\, training\, and community in Athens\, Greece.
URL:https://americanparkour.com/event-frame/12th-athens-international-parkour-gathering/
CATEGORIES:Community Event
END:VEVENT
BEGIN:VEVENT
DTSTART;VALUE=DATE:20260425
DTEND;VALUE=DATE:20260426
DTSTAMP:20260423T010510
CREATED:20260411T140406Z
LAST-MODIFIED:20260411T140411Z
UID:252379-1777075200-1777161599@americanparkour.com
SUMMARY:USPK Southeast Qualifier at Movement Therapy TN
DESCRIPTION:
URL:https://americanparkour.com/event-frame/uspk-southeast-qualifier-at-movement-therapy-tn/
END:VEVENT
BEGIN:VEVENT
DTSTART;VALUE=DATE:20260425
DTEND;VALUE=DATE:20260427
DTSTAMP:20260423T010510
CREATED:20260411T132013Z
LAST-MODIFIED:20260411T132013Z
UID:252424-1777075200-1777247999@americanparkour.com
SUMMARY:Earth Day Parkour Jam Gainesville 2026
DESCRIPTION:Two-day community parkour jam at Turlington Hall on the UF campus in Gainesville\, FL. Practitioners gather to train\, explore free movement around campus\, and leave the space better than they found it — in honor of Earth Day.
URL:https://americanparkour.com/event-frame/earth-day-parkour-jam-gainesville-2026/
CATEGORIES:Community Event
END:VEVENT
BEGIN:VEVENT
DTSTART;VALUE=DATE:20260425
DTEND;VALUE=DATE:20260427
DTSTAMP:20260423T010510
CREATED:20260411T140406Z
LAST-MODIFIED:20260411T140410Z
UID:252378-1777075200-1777247999@americanparkour.com
SUMMARY:USPK West Coast Qualifier at Sessions Academy of Movement
DESCRIPTION:
URL:https://americanparkour.com/event-frame/uspk-west-coast-qualifier-at-sessions-academy-of-movement/
END:VEVENT
BEGIN:VEVENT
DTSTART;VALUE=DATE:20260425
DTEND;VALUE=DATE:20260427
DTSTAMP:20260423T010510
CREATED:20260411T140414Z
LAST-MODIFIED:20260411T140416Z
UID:252403-1777075200-1777247999@americanparkour.com
SUMMARY:Move NYC Spring 2026
DESCRIPTION:
URL:https://americanparkour.com/event-frame/move-nyc-spring-2026/
END:VEVENT
BEGIN:VEVENT
DTSTART;TZID=America/New_York:20260425T100000
DTEND;TZID=America/New_York:20260425T120000
DTSTAMP:20260423T010510
CREATED:20260411T132005Z
LAST-MODIFIED:20260411T132005Z
UID:252420-1777111200-1777118400@americanparkour.com
SUMMARY:Parkour Open House
DESCRIPTION:Free Parkour Open House event at Gettysburg’s BEST Parkour gym. Open to all ages and abilities — come run\, jump\, climb\, and conquer obstacles. A great intro to parkour for newcomers and a fun session for experienced practitioners.
URL:https://americanparkour.com/event-frame/parkour-open-house/
CATEGORIES:Community Event
END:VEVENT
BEGIN:VEVENT
DTSTART;TZID=America/Chicago:20260425T110000
DTEND;TZID=America/Chicago:20260425T130000
DTSTAMP:20260423T010510
CREATED:20260411T132016Z
LAST-MODIFIED:20260411T132016Z
UID:252425-1777114800-1777122000@americanparkour.com
SUMMARY:Madison Parkour Meetup
DESCRIPTION:Monthly community parkour meetup in Madison\, WI organized by Force of Nature Movement. Meet at Bascom Hill by the Abe Lincoln statue for a group warmup and training session. Open to all levels.
URL:https://americanparkour.com/event-frame/madison-parkour-meetup/
CATEGORIES:Community Event
END:VEVENT
BEGIN:VEVENT
DTSTART;TZID=America/New_York:20260426T100000
DTEND;TZID=America/New_York:20260426T120000
DTSTAMP:20260423T010510
CREATED:20260411T132018Z
LAST-MODIFIED:20260411T132018Z
UID:252426-1777197600-1777204800@americanparkour.com
SUMMARY:April DC Women's Parkour Meetup
DESCRIPTION:Monthly women’s parkour meetup at Rosslyn Gateway Park in Arlington\, Virginia. Open to women and non-binary practitioners of all skill levels. Organized by the DC parkour community.
URL:https://americanparkour.com/event-frame/april-dc-womens-parkour-meetup/
CATEGORIES:Community Event
END:VEVENT
BEGIN:VEVENT
DTSTART;VALUE=DATE:20260501
DTEND;VALUE=DATE:20260502
DTSTAMP:20260423T010510
CREATED:20260411T140406Z
LAST-MODIFIED:20260411T140411Z
UID:252380-1777593600-1777679999@americanparkour.com
SUMMARY:USPK Northeast Qualifier at HUB Parkour
DESCRIPTION:
URL:https://americanparkour.com/event-frame/uspk-northeast-qualifier-at-hub-parkour-2/
END:VEVENT
BEGIN:VEVENT
DTSTART;VALUE=DATE:20260501
DTEND;VALUE=DATE:20260502
DTSTAMP:20260423T010510
CREATED:20260411T140414Z
LAST-MODIFIED:20260411T140416Z
UID:252390-1777593600-1777679999@americanparkour.com
SUMMARY:WPKM Hosted by Atlanta Parkour
DESCRIPTION:
URL:https://americanparkour.com/event-frame/wpkm-hosted-by-atlanta-parkour/
END:VEVENT
BEGIN:VEVENT
DTSTART;VALUE=DATE:20260502
DTEND;VALUE=DATE:20260504
DTSTAMP:20260423T010510
CREATED:20260411T140406Z
LAST-MODIFIED:20260411T140412Z
UID:252383-1777680000-1777852799@americanparkour.com
SUMMARY:USPK West Coast Qualifier at Playformance
DESCRIPTION:
URL:https://americanparkour.com/event-frame/uspk-west-coast-qualifier-at-playformance/
END:VEVENT
BEGIN:VEVENT
DTSTART;VALUE=DATE:20260502
DTEND;VALUE=DATE:20260504
DTSTAMP:20260423T010510
CREATED:20260411T140406Z
LAST-MODIFIED:20260411T140412Z
UID:252382-1777680000-1777852799@americanparkour.com
SUMMARY:USPK West Coast Qualifier at Parkour Generations Santa Cruz
DESCRIPTION:
URL:https://americanparkour.com/event-frame/uspk-west-coast-qualifier-at-parkour-generations-santa-cruz/
END:VEVENT
BEGIN:VEVENT
DTSTART;VALUE=DATE:20260502
DTEND;VALUE=DATE:20260504
DTSTAMP:20260423T010510
CREATED:20260411T140406Z
LAST-MODIFIED:20260411T140411Z
UID:252381-1777680000-1777852799@americanparkour.com
SUMMARY:Midwest Regional Championship
DESCRIPTION:
URL:https://americanparkour.com/event-frame/midwest-regional-championship/
END:VEVENT
BEGIN:VEVENT
DTSTART;VALUE=DATE:20260508
DTEND;VALUE=DATE:20260509
DTSTAMP:20260423T010510
CREATED:20260411T140406Z
LAST-MODIFIED:20260411T140412Z
UID:252384-1778198400-1778284799@americanparkour.com
SUMMARY:USPK Northeast Qualifier at HUB Parkour
DESCRIPTION:
URL:https://americanparkour.com/event-frame/uspk-northeast-qualifier-at-hub-parkour-3/
END:VEVENT
BEGIN:VEVENT
DTSTART;VALUE=DATE:20260508
DTEND;VALUE=DATE:20260511
DTSTAMP:20260423T010510
CREATED:20260411T132020Z
LAST-MODIFIED:20260411T132020Z
UID:252427-1778198400-1778457599@americanparkour.com
SUMMARY:Level 1 Parkour Coach Certification - Austin TX
DESCRIPTION:Parkour Generations Americas Level 1 Coach Certification course in Austin\, Texas. A professional qualification for parkour instructors covering safety\, pedagogy\, and movement fundamentals.
URL:https://americanparkour.com/event-frame/level-1-parkour-coach-certification-austin-tx/
CATEGORIES:Education
END:VEVENT
BEGIN:VEVENT
DTSTART;VALUE=DATE:20260509
DTEND;VALUE=DATE:20260510
DTSTAMP:20260423T010510
CREATED:20260411T140406Z
LAST-MODIFIED:20260411T140413Z
UID:252385-1778284800-1778371199@americanparkour.com
SUMMARY:Mountain West Regional Championship
DESCRIPTION:
URL:https://americanparkour.com/event-frame/mountain-west-regional-championship/
END:VEVENT
BEGIN:VEVENT
DTSTART;TZID=Europe/Sofia:20260509T090000
DTEND;TZID=Europe/Sofia:20260509T180000
DTSTAMP:20260423T010510
CREATED:20260411T132024Z
LAST-MODIFIED:20260411T132024Z
UID:252429-1778317200-1778349600@americanparkour.com
SUMMARY:Parkour Spring Jam Plovdiv 2026
DESCRIPTION:Spring community parkour jam in Plovdiv\, Bulgaria. A gathering of practitioners for outdoor training and community building.
URL:https://americanparkour.com/event-frame/parkour-spring-jam-plovdiv-2026/
CATEGORIES:Community Event
END:VEVENT
BEGIN:VEVENT
DTSTART;TZID=Europe/Prague:20260509T100000
DTEND;TZID=Europe/Prague:20260509T180000
DTSTAMP:20260423T010510
CREATED:20260411T132022Z
LAST-MODIFIED:20260411T132022Z
UID:252428-1778320800-1778349600@americanparkour.com
SUMMARY:KYJOV PARKOUR JAM
DESCRIPTION:Community parkour jam in Kyjov\, Czech Republic. Open-air training session and gathering for the local and regional parkour community.
URL:https://americanparkour.com/event-frame/kyjov-parkour-jam/
CATEGORIES:Community Event
END:VEVENT
BEGIN:VEVENT
DTSTART;VALUE=DATE:20260516
DTEND;VALUE=DATE:20260518
DTSTAMP:20260423T010510
CREATED:20260411T140414Z
LAST-MODIFIED:20260411T140415Z
UID:252387-1778889600-1779062399@americanparkour.com
SUMMARY:Northwest Regional Championship
DESCRIPTION:
URL:https://americanparkour.com/event-frame/northwest-regional-championship/
END:VEVENT
BEGIN:VEVENT
DTSTART;VALUE=DATE:20260516
DTEND;VALUE=DATE:20260518
DTSTAMP:20260423T010510
CREATED:20260411T140414Z
LAST-MODIFIED:20260411T140414Z
UID:252386-1778889600-1779062399@americanparkour.com
SUMMARY:West Coast Regional Championship
DESCRIPTION:
URL:https://americanparkour.com/event-frame/west-coast-regional-championship/
END:VEVENT
BEGIN:VEVENT
DTSTART;VALUE=DATE:20260530
DTEND;VALUE=DATE:20260531
DTSTAMP:20260423T010510
CREATED:20260411T140414Z
LAST-MODIFIED:20260411T140415Z
UID:252388-1780099200-1780185599@americanparkour.com
SUMMARY:Northeast Regional Championship
DESCRIPTION:
URL:https://americanparkour.com/event-frame/northeast-regional-championship/
END:VEVENT
BEGIN:VEVENT
DTSTART;VALUE=DATE:20260530
DTEND;VALUE=DATE:20260601
DTSTAMP:20260423T010510
CREATED:20260411T140414Z
LAST-MODIFIED:20260411T140415Z
UID:252389-1780099200-1780271999@americanparkour.com
SUMMARY:Southeast Regional Championship
DESCRIPTION:
URL:https://americanparkour.com/event-frame/southeast-regional-championship/
END:VEVENT
BEGIN:VEVENT
DTSTART;VALUE=DATE:20260620
DTEND;VALUE=DATE:20260625
DTSTAMP:20260423T010510
CREATED:20260411T132032Z
LAST-MODIFIED:20260411T132032Z
UID:252430-1781913600-1782345599@americanparkour.com
SUMMARY:Level 2 Parkour Coach Certification - Boston USA
DESCRIPTION:Parkour Generations Americas Level 2 Coach Certification course in Boston\, Massachusetts. Advanced professional qualification for experienced parkour instructors.
URL:https://americanparkour.com/event-frame/level-2-parkour-coach-certification-boston-usa/
CATEGORIES:Education
END:VEVENT
BEGIN:VEVENT
DTSTART;VALUE=DATE:20260626
DTEND;VALUE=DATE:20260629
DTSTAMP:20260423T010511
CREATED:20260411T132033Z
LAST-MODIFIED:20260411T132033Z
UID:252431-1782432000-1782691199@americanparkour.com
SUMMARY:American Rendezvous 2026 - International Parkour Workshop
DESCRIPTION:A major international parkour event organized by Parkour Generations Americas\, bringing together coaches and practitioners from across the globe for a weekend of workshops\, training\, and community. Tickets available via Eventbrite.
URL:https://americanparkour.com/event-frame/american-rendezvous-2026-international-parkour-workshop/
CATEGORIES:Community Event
END:VEVENT
END:VCALENDAR