BEGIN:VCALENDAR
VERSION:2.0
PRODID:-//American Parkour - ECPv6.15.20//NONSGML v1.0//EN
CALSCALE:GREGORIAN
METHOD:PUBLISH
X-WR-CALNAME:American Parkour
X-ORIGINAL-URL:https://americanparkour.com
X-WR-CALDESC:Events for American Parkour
REFRESH-INTERVAL;VALUE=DURATION:PT1H
X-Robots-Tag:noindex
X-PUBLISHED-TTL:PT1H
BEGIN:VTIMEZONE
TZID:America/New_York
BEGIN:DAYLIGHT
TZOFFSETFROM:-0500
TZOFFSETTO:-0400
TZNAME:EDT
DTSTART:20250309T070000
END:DAYLIGHT
BEGIN:STANDARD
TZOFFSETFROM:-0400
TZOFFSETTO:-0500
TZNAME:EST
DTSTART:20251102T060000
END:STANDARD
BEGIN:DAYLIGHT
TZOFFSETFROM:-0500
TZOFFSETTO:-0400
TZNAME:EDT
DTSTART:20260308T070000
END:DAYLIGHT
BEGIN:STANDARD
TZOFFSETFROM:-0400
TZOFFSETTO:-0500
TZNAME:EST
DTSTART:20261101T060000
END:STANDARD
BEGIN:DAYLIGHT
TZOFFSETFROM:-0500
TZOFFSETTO:-0400
TZNAME:EDT
DTSTART:20270314T070000
END:DAYLIGHT
BEGIN:STANDARD
TZOFFSETFROM:-0400
TZOFFSETTO:-0500
TZNAME:EST
DTSTART:20271107T060000
END:STANDARD
END:VTIMEZONE
BEGIN:VTIMEZONE
TZID:America/Chicago
BEGIN:DAYLIGHT
TZOFFSETFROM:-0600
TZOFFSETTO:-0500
TZNAME:CDT
DTSTART:20250309T080000
END:DAYLIGHT
BEGIN:STANDARD
TZOFFSETFROM:-0500
TZOFFSETTO:-0600
TZNAME:CST
DTSTART:20251102T070000
END:STANDARD
BEGIN:DAYLIGHT
TZOFFSETFROM:-0600
TZOFFSETTO:-0500
TZNAME:CDT
DTSTART:20260308T080000
END:DAYLIGHT
BEGIN:STANDARD
TZOFFSETFROM:-0500
TZOFFSETTO:-0600
TZNAME:CST
DTSTART:20261101T070000
END:STANDARD
BEGIN:DAYLIGHT
TZOFFSETFROM:-0600
TZOFFSETTO:-0500
TZNAME:CDT
DTSTART:20270314T080000
END:DAYLIGHT
BEGIN:STANDARD
TZOFFSETFROM:-0500
TZOFFSETTO:-0600
TZNAME:CST
DTSTART:20271107T070000
END:STANDARD
END:VTIMEZONE
BEGIN:VTIMEZONE
TZID:America/Denver
BEGIN:DAYLIGHT
TZOFFSETFROM:-0700
TZOFFSETTO:-0600
TZNAME:MDT
DTSTART:20250309T090000
END:DAYLIGHT
BEGIN:STANDARD
TZOFFSETFROM:-0600
TZOFFSETTO:-0700
TZNAME:MST
DTSTART:20251102T080000
END:STANDARD
BEGIN:DAYLIGHT
TZOFFSETFROM:-0700
TZOFFSETTO:-0600
TZNAME:MDT
DTSTART:20260308T090000
END:DAYLIGHT
BEGIN:STANDARD
TZOFFSETFROM:-0600
TZOFFSETTO:-0700
TZNAME:MST
DTSTART:20261101T080000
END:STANDARD
BEGIN:DAYLIGHT
TZOFFSETFROM:-0700
TZOFFSETTO:-0600
TZNAME:MDT
DTSTART:20270314T090000
END:DAYLIGHT
BEGIN:STANDARD
TZOFFSETFROM:-0600
TZOFFSETTO:-0700
TZNAME:MST
DTSTART:20271107T080000
END:STANDARD
END:VTIMEZONE
BEGIN:VEVENT
DTSTART;VALUE=DATE:20260206
DTEND;VALUE=DATE:20260209
DTSTAMP:20260423T004536
CREATED:20260411T140414Z
LAST-MODIFIED:20260411T140416Z
UID:252404-1770336000-1770595199@americanparkour.com
SUMMARY:Obsidian US Winter 2026
DESCRIPTION:
URL:https://americanparkour.com/event-frame/obsidian-us-winter-2026/
END:VEVENT
BEGIN:VEVENT
DTSTART;VALUE=DATE:20260207
DTEND;VALUE=DATE:20260208
DTSTAMP:20260423T004536
CREATED:20260411T140356Z
LAST-MODIFIED:20260411T140358Z
UID:252351-1770422400-1770508799@americanparkour.com
SUMMARY:USPK Mountain West Qualifier at Outrun Parkour
DESCRIPTION:
URL:https://americanparkour.com/event-frame/uspk-mountain-west-qualifier-at-outrun-parkour/
END:VEVENT
BEGIN:VEVENT
DTSTART;VALUE=DATE:20260207
DTEND;VALUE=DATE:20260209
DTSTAMP:20260423T004536
CREATED:20260411T140356Z
LAST-MODIFIED:20260411T140358Z
UID:252352-1770422400-1770595199@americanparkour.com
SUMMARY:USPK Northwest Qualifier at Avant Coeur
DESCRIPTION:
URL:https://americanparkour.com/event-frame/uspk-northwest-qualifier-at-avant-coeur/
END:VEVENT
BEGIN:VEVENT
DTSTART;VALUE=DATE:20260214
DTEND;VALUE=DATE:20260216
DTSTAMP:20260423T004536
CREATED:20260411T140356Z
LAST-MODIFIED:20260411T140358Z
UID:252353-1771027200-1771199999@americanparkour.com
SUMMARY:USPK Northwest Qualifier at Revolution Parkour Gresham
DESCRIPTION:
URL:https://americanparkour.com/event-frame/uspk-northwest-qualifier-at-revolution-parkour-gresham/
END:VEVENT
BEGIN:VEVENT
DTSTART;VALUE=DATE:20260221
DTEND;VALUE=DATE:20260222
DTSTAMP:20260423T004536
CREATED:20260411T140356Z
LAST-MODIFIED:20260411T140359Z
UID:252354-1771632000-1771718399@americanparkour.com
SUMMARY:USPK Midwest Qualifier at Monkey Business Parkour
DESCRIPTION:
URL:https://americanparkour.com/event-frame/uspk-midwest-qualifier-at-monkey-business-parkour/
END:VEVENT
BEGIN:VEVENT
DTSTART;VALUE=DATE:20260222
DTEND;VALUE=DATE:20260223
DTSTAMP:20260423T004536
CREATED:20260411T140356Z
LAST-MODIFIED:20260411T140359Z
UID:252355-1771718400-1771804799@americanparkour.com
SUMMARY:USPK Northwest Qualifier at Life Force Ninja
DESCRIPTION:
URL:https://americanparkour.com/event-frame/uspk-northwest-qualifier-at-life-force-ninja/
END:VEVENT
BEGIN:VEVENT
DTSTART;VALUE=DATE:20260228
DTEND;VALUE=DATE:20260301
DTSTAMP:20260423T004536
CREATED:20260411T140356Z
LAST-MODIFIED:20260411T140400Z
UID:252357-1772236800-1772323199@americanparkour.com
SUMMARY:USPK Mountain West Qualifier at Path Movement
DESCRIPTION:
URL:https://americanparkour.com/event-frame/uspk-mountain-west-qualifier-at-path-movement/
END:VEVENT
BEGIN:VEVENT
DTSTART;VALUE=DATE:20260228
DTEND;VALUE=DATE:20260302
DTSTAMP:20260423T004536
CREATED:20260411T140356Z
LAST-MODIFIED:20260411T140359Z
UID:252356-1772236800-1772409599@americanparkour.com
SUMMARY:USPK West Coast Qualifier at The Parkour and Performing Arts Center
DESCRIPTION:
URL:https://americanparkour.com/event-frame/uspk-west-coast-qualifier-at-the-parkour-and-performing-arts-center/
END:VEVENT
BEGIN:VEVENT
DTSTART;VALUE=DATE:20260306
DTEND;VALUE=DATE:20260307
DTSTAMP:20260423T004536
CREATED:20260411T140356Z
LAST-MODIFIED:20260411T140400Z
UID:252358-1772755200-1772841599@americanparkour.com
SUMMARY:USPK Northeast Qualifier at ROAMFurther Athletics
DESCRIPTION:
URL:https://americanparkour.com/event-frame/uspk-northeast-qualifier-at-roamfurther-athletics/
END:VEVENT
BEGIN:VEVENT
DTSTART;VALUE=DATE:20260307
DTEND;VALUE=DATE:20260309
DTSTAMP:20260423T004536
CREATED:20260411T140356Z
LAST-MODIFIED:20260411T140400Z
UID:252359-1772841600-1773014399@americanparkour.com
SUMMARY:USPK West Coast Qualifier at Flying Frog Academy
DESCRIPTION:
URL:https://americanparkour.com/event-frame/uspk-west-coast-qualifier-at-flying-frog-academy/
END:VEVENT
BEGIN:VEVENT
DTSTART;VALUE=DATE:20260313
DTEND;VALUE=DATE:20260314
DTSTAMP:20260423T004536
CREATED:20260411T140356Z
LAST-MODIFIED:20260411T140401Z
UID:252360-1773360000-1773446399@americanparkour.com
SUMMARY:USPK Northeast Qualifier at ROAMFurther Athletics
DESCRIPTION:
URL:https://americanparkour.com/event-frame/uspk-northeast-qualifier-at-roamfurther-athletics-2/
END:VEVENT
BEGIN:VEVENT
DTSTART;VALUE=DATE:20260314
DTEND;VALUE=DATE:20260316
DTSTAMP:20260423T004536
CREATED:20260411T140356Z
LAST-MODIFIED:20260411T140401Z
UID:252361-1773446400-1773619199@americanparkour.com
SUMMARY:USPK West Coast Qualifier at Freedom in Motion (Loma Linda)
DESCRIPTION:
URL:https://americanparkour.com/event-frame/uspk-west-coast-qualifier-at-freedom-in-motion-loma-linda/
END:VEVENT
BEGIN:VEVENT
DTSTART;VALUE=DATE:20260315
DTEND;VALUE=DATE:20260316
DTSTAMP:20260423T004536
CREATED:20260411T140356Z
LAST-MODIFIED:20260411T140402Z
UID:252362-1773532800-1773619199@americanparkour.com
SUMMARY:USPK Southeast Qualifier at NYX Training Center
DESCRIPTION:
URL:https://americanparkour.com/event-frame/uspk-southeast-qualifier-at-nyx-training-center/
END:VEVENT
BEGIN:VEVENT
DTSTART;VALUE=DATE:20260320
DTEND;VALUE=DATE:20260321
DTSTAMP:20260423T004536
CREATED:20260411T140356Z
LAST-MODIFIED:20260411T140402Z
UID:252363-1773964800-1774051199@americanparkour.com
SUMMARY:USPK Northeast Qualifier at ROAMFurther Athletics
DESCRIPTION:
URL:https://americanparkour.com/event-frame/uspk-northeast-qualifier-at-roamfurther-athletics-3/
END:VEVENT
BEGIN:VEVENT
DTSTART;VALUE=DATE:20260321
DTEND;VALUE=DATE:20260322
DTSTAMP:20260423T004536
CREATED:20260411T140356Z
LAST-MODIFIED:20260411T140402Z
UID:252364-1774051200-1774137599@americanparkour.com
SUMMARY:USPK Midwest Qualifier at Kentuckiana Parkour
DESCRIPTION:
URL:https://americanparkour.com/event-frame/uspk-midwest-qualifier-at-kentuckiana-parkour/
END:VEVENT
BEGIN:VEVENT
DTSTART;VALUE=DATE:20260321
DTEND;VALUE=DATE:20260323
DTSTAMP:20260423T004536
CREATED:20260410T191454Z
LAST-MODIFIED:20260410T191454Z
UID:252366-1774051200-1774223999@americanparkour.com
SUMMARY:USPK Northeast Qualifier at Bolt Parkour & Freerunning Academy
DESCRIPTION:USPK Regional Qualifier in the Northeast region hosted at Bolt Parkour & Freerunning Academy. Categories: Speed\, Skill\, Style. Source: USPK 2026 Competition Events (Public).
URL:https://americanparkour.com/event-frame/uspk-northeast-qualifier-at-bolt-parkour-freerunning-academy/
CATEGORIES:Competition
END:VEVENT
BEGIN:VEVENT
DTSTART;VALUE=DATE:20260321
DTEND;VALUE=DATE:20260323
DTSTAMP:20260423T004536
CREATED:20260411T140356Z
LAST-MODIFIED:20260411T140403Z
UID:252365-1774051200-1774223999@americanparkour.com
SUMMARY:USPK Northwest Qualifier at Dynasty Fitness
DESCRIPTION:
URL:https://americanparkour.com/event-frame/uspk-northwest-qualifier-at-dynasty-fitness/
END:VEVENT
BEGIN:VEVENT
DTSTART;VALUE=DATE:20260328
DTEND;VALUE=DATE:20260329
DTSTAMP:20260423T004536
CREATED:20260411T140406Z
LAST-MODIFIED:20260411T140406Z
UID:252367-1774656000-1774742399@americanparkour.com
SUMMARY:USPK Southeast Qualifier at Atlanta Parkour
DESCRIPTION:
URL:https://americanparkour.com/event-frame/uspk-southeast-qualifier-at-atlanta-parkour/
END:VEVENT
BEGIN:VEVENT
DTSTART;VALUE=DATE:20260328
DTEND;VALUE=DATE:20260329
DTSTAMP:20260423T004536
CREATED:20260411T140406Z
LAST-MODIFIED:20260411T140407Z
UID:252368-1774656000-1774742399@americanparkour.com
SUMMARY:USPK Mountain West Qualifier at Outrun Parkour
DESCRIPTION:
URL:https://americanparkour.com/event-frame/uspk-mountain-west-qualifier-at-outrun-parkour-2/
END:VEVENT
BEGIN:VEVENT
DTSTART;VALUE=DATE:20260404
DTEND;VALUE=DATE:20260405
DTSTAMP:20260423T004536
CREATED:20260411T140406Z
LAST-MODIFIED:20260411T140407Z
UID:252369-1775260800-1775347199@americanparkour.com
SUMMARY:USPK Southeast Qualifier at Level Up Parkour Academy
DESCRIPTION:
URL:https://americanparkour.com/event-frame/uspk-southeast-qualifier-at-level-up-parkour-academy/
END:VEVENT
BEGIN:VEVENT
DTSTART;VALUE=DATE:20260410
DTEND;VALUE=DATE:20260413
DTSTAMP:20260423T004536
CREATED:20260411T132007Z
LAST-MODIFIED:20260411T132007Z
UID:252421-1775779200-1776038399@americanparkour.com
SUMMARY:Parkour Offspring Jam
DESCRIPTION:A 3-day free parkour gathering in Austin\, TX (April 10-12\, 2026). Organized by Fara Pkair and Houston Parkour. Free to attend — registration required for headcount. Open to all skill levels.
URL:https://americanparkour.com/event-frame/parkour-offspring-jam/
CATEGORIES:Community Event
END:VEVENT
BEGIN:VEVENT
DTSTART;VALUE=DATE:20260411
DTEND;VALUE=DATE:20260412
DTSTAMP:20260423T004536
CREATED:20260411T140406Z
LAST-MODIFIED:20260411T140408Z
UID:252371-1775865600-1775951999@americanparkour.com
SUMMARY:USPK Mountain West Qualifier at APEX Denver
DESCRIPTION:
URL:https://americanparkour.com/event-frame/uspk-mountain-west-qualifier-at-apex-denver-2/
END:VEVENT
BEGIN:VEVENT
DTSTART;VALUE=DATE:20260411
DTEND;VALUE=DATE:20260412
DTSTAMP:20260423T004536
CREATED:20260411T140406Z
LAST-MODIFIED:20260411T140407Z
UID:252370-1775865600-1775951999@americanparkour.com
SUMMARY:USPK Southeast Qualifier at Enso Movement Raleigh
DESCRIPTION:
URL:https://americanparkour.com/event-frame/uspk-southeast-qualifier-at-enso-movement-raleigh/
END:VEVENT
BEGIN:VEVENT
DTSTART;VALUE=DATE:20260411
DTEND;VALUE=DATE:20260413
DTSTAMP:20260423T004536
CREATED:20260411T140406Z
LAST-MODIFIED:20260411T140408Z
UID:252372-1775865600-1776038399@americanparkour.com
SUMMARY:USPK West Coast Qualifier at Reverent School of Movement
DESCRIPTION:
URL:https://americanparkour.com/event-frame/uspk-west-coast-qualifier-at-reverent-school-of-movement/
END:VEVENT
BEGIN:VEVENT
DTSTART;TZID=America/Denver:20260411T140000
DTEND;TZID=America/Denver:20260411T160000
DTSTAMP:20260423T004536
CREATED:20260411T132009Z
LAST-MODIFIED:20260411T132009Z
UID:252422-1775916000-1775923200@americanparkour.com
SUMMARY:Free Parkour Sessions!
DESCRIPTION:Free parkour sessions at Fountain Mesa Park in Fountain\, Colorado — open to all ages\, stages\, and abilities. Organized by Pure Parkour Inc\, a non-profit working to build a parkour gym in Colorado Springs.
URL:https://americanparkour.com/event-frame/free-parkour-sessions/
CATEGORIES:Community Event
END:VEVENT
BEGIN:VEVENT
DTSTART;VALUE=DATE:20260418
DTEND;VALUE=DATE:20260419
DTSTAMP:20260423T004536
CREATED:20260411T140406Z
LAST-MODIFIED:20260411T140409Z
UID:252374-1776470400-1776556799@americanparkour.com
SUMMARY:USPK Northeast Qualifier at Dynamic Movement Gym
DESCRIPTION:
URL:https://americanparkour.com/event-frame/uspk-northeast-qualifier-at-dynamic-movement-gym/
END:VEVENT
BEGIN:VEVENT
DTSTART;VALUE=DATE:20260418
DTEND;VALUE=DATE:20260420
DTSTAMP:20260423T004536
CREATED:20260411T140406Z
LAST-MODIFIED:20260411T140409Z
UID:252375-1776470400-1776643199@americanparkour.com
SUMMARY:USPK Northwest Qualifier at Krete Academy
DESCRIPTION:
URL:https://americanparkour.com/event-frame/uspk-northwest-qualifier-at-krete-academy/
END:VEVENT
BEGIN:VEVENT
DTSTART;VALUE=DATE:20260418
DTEND;VALUE=DATE:20260420
DTSTAMP:20260423T004536
CREATED:20260411T140406Z
LAST-MODIFIED:20260411T140409Z
UID:252376-1776470400-1776643199@americanparkour.com
SUMMARY:USPK West Coast Qualifier at Rogue Parkour Gym
DESCRIPTION:
URL:https://americanparkour.com/event-frame/uspk-west-coast-qualifier-at-rogue-parkour-gym/
END:VEVENT
BEGIN:VEVENT
DTSTART;VALUE=DATE:20260418
DTEND;VALUE=DATE:20260420
DTSTAMP:20260423T004536
CREATED:20260411T140406Z
LAST-MODIFIED:20260411T140408Z
UID:252373-1776470400-1776643199@americanparkour.com
SUMMARY:USPK Mountain West Qualifier at Nebraska Parkour
DESCRIPTION:
URL:https://americanparkour.com/event-frame/uspk-mountain-west-qualifier-at-nebraska-parkour/
END:VEVENT
BEGIN:VEVENT
DTSTART;VALUE=DATE:20260424
DTEND;VALUE=DATE:20260425
DTSTAMP:20260423T004536
CREATED:20260411T140406Z
LAST-MODIFIED:20260411T140410Z
UID:252377-1776988800-1777075199@americanparkour.com
SUMMARY:USPK Northeast Qualifier at HUB Parkour
DESCRIPTION:
URL:https://americanparkour.com/event-frame/uspk-northeast-qualifier-at-hub-parkour/
END:VEVENT
END:VCALENDAR