BEGIN:VCALENDAR
VERSION:2.0
PRODID:-//American Parkour - ECPv6.15.20//NONSGML v1.0//EN
CALSCALE:GREGORIAN
METHOD:PUBLISH
X-ORIGINAL-URL:https://americanparkour.com
X-WR-CALDESC:Events for American Parkour
REFRESH-INTERVAL;VALUE=DURATION:PT1H
X-Robots-Tag:noindex
X-PUBLISHED-TTL:PT1H
BEGIN:VTIMEZONE
TZID:America/Chicago
BEGIN:DAYLIGHT
TZOFFSETFROM:-0600
TZOFFSETTO:-0500
TZNAME:CDT
DTSTART:20250309T080000
END:DAYLIGHT
BEGIN:STANDARD
TZOFFSETFROM:-0500
TZOFFSETTO:-0600
TZNAME:CST
DTSTART:20251102T070000
END:STANDARD
BEGIN:DAYLIGHT
TZOFFSETFROM:-0600
TZOFFSETTO:-0500
TZNAME:CDT
DTSTART:20260308T080000
END:DAYLIGHT
BEGIN:STANDARD
TZOFFSETFROM:-0500
TZOFFSETTO:-0600
TZNAME:CST
DTSTART:20261101T070000
END:STANDARD
BEGIN:DAYLIGHT
TZOFFSETFROM:-0600
TZOFFSETTO:-0500
TZNAME:CDT
DTSTART:20270314T080000
END:DAYLIGHT
BEGIN:STANDARD
TZOFFSETFROM:-0500
TZOFFSETTO:-0600
TZNAME:CST
DTSTART:20271107T070000
END:STANDARD
END:VTIMEZONE
BEGIN:VTIMEZONE
TZID:America/New_York
BEGIN:DAYLIGHT
TZOFFSETFROM:-0500
TZOFFSETTO:-0400
TZNAME:EDT
DTSTART:20250309T070000
END:DAYLIGHT
BEGIN:STANDARD
TZOFFSETFROM:-0400
TZOFFSETTO:-0500
TZNAME:EST
DTSTART:20251102T060000
END:STANDARD
BEGIN:DAYLIGHT
TZOFFSETFROM:-0500
TZOFFSETTO:-0400
TZNAME:EDT
DTSTART:20260308T070000
END:DAYLIGHT
BEGIN:STANDARD
TZOFFSETFROM:-0400
TZOFFSETTO:-0500
TZNAME:EST
DTSTART:20261101T060000
END:STANDARD
BEGIN:DAYLIGHT
TZOFFSETFROM:-0500
TZOFFSETTO:-0400
TZNAME:EDT
DTSTART:20270314T070000
END:DAYLIGHT
BEGIN:STANDARD
TZOFFSETFROM:-0400
TZOFFSETTO:-0500
TZNAME:EST
DTSTART:20271107T060000
END:STANDARD
END:VTIMEZONE
BEGIN:VTIMEZONE
TZID:America/Denver
BEGIN:DAYLIGHT
TZOFFSETFROM:-0700
TZOFFSETTO:-0600
TZNAME:MDT
DTSTART:20250309T090000
END:DAYLIGHT
BEGIN:STANDARD
TZOFFSETFROM:-0600
TZOFFSETTO:-0700
TZNAME:MST
DTSTART:20251102T080000
END:STANDARD
BEGIN:DAYLIGHT
TZOFFSETFROM:-0700
TZOFFSETTO:-0600
TZNAME:MDT
DTSTART:20260308T090000
END:DAYLIGHT
BEGIN:STANDARD
TZOFFSETFROM:-0600
TZOFFSETTO:-0700
TZNAME:MST
DTSTART:20261101T080000
END:STANDARD
BEGIN:DAYLIGHT
TZOFFSETFROM:-0700
TZOFFSETTO:-0600
TZNAME:MDT
DTSTART:20270314T090000
END:DAYLIGHT
BEGIN:STANDARD
TZOFFSETFROM:-0600
TZOFFSETTO:-0700
TZNAME:MST
DTSTART:20271107T080000
END:STANDARD
END:VTIMEZONE
BEGIN:VEVENT
DTSTART;VALUE=DATE:20260410
DTEND;VALUE=DATE:20260413
DTSTAMP:20260422T190525
CREATED:20260411T132007Z
LAST-MODIFIED:20260411T132007Z
UID:252421-1775779200-1776038399@americanparkour.com
SUMMARY:Parkour Offspring Jam
DESCRIPTION:A 3-day free parkour gathering in Austin\, TX (April 10-12\, 2026). Organized by Fara Pkair and Houston Parkour. Free to attend — registration required for headcount. Open to all skill levels.
URL:https://americanparkour.com/event-frame/parkour-offspring-jam/
CATEGORIES:Community Event
END:VEVENT
BEGIN:VEVENT
DTSTART;VALUE=DATE:20260411
DTEND;VALUE=DATE:20260412
DTSTAMP:20260422T190525
CREATED:20260411T140406Z
LAST-MODIFIED:20260411T140407Z
UID:252370-1775865600-1775951999@americanparkour.com
SUMMARY:USPK Southeast Qualifier at Enso Movement Raleigh
DESCRIPTION:
URL:https://americanparkour.com/event-frame/uspk-southeast-qualifier-at-enso-movement-raleigh/
END:VEVENT
BEGIN:VEVENT
DTSTART;VALUE=DATE:20260411
DTEND;VALUE=DATE:20260412
DTSTAMP:20260422T190525
CREATED:20260411T140406Z
LAST-MODIFIED:20260411T140408Z
UID:252371-1775865600-1775951999@americanparkour.com
SUMMARY:USPK Mountain West Qualifier at APEX Denver
DESCRIPTION:
URL:https://americanparkour.com/event-frame/uspk-mountain-west-qualifier-at-apex-denver-2/
END:VEVENT
BEGIN:VEVENT
DTSTART;VALUE=DATE:20260411
DTEND;VALUE=DATE:20260413
DTSTAMP:20260422T190525
CREATED:20260411T140406Z
LAST-MODIFIED:20260411T140408Z
UID:252372-1775865600-1776038399@americanparkour.com
SUMMARY:USPK West Coast Qualifier at Reverent School of Movement
DESCRIPTION:
URL:https://americanparkour.com/event-frame/uspk-west-coast-qualifier-at-reverent-school-of-movement/
END:VEVENT
BEGIN:VEVENT
DTSTART;TZID=America/Denver:20260411T140000
DTEND;TZID=America/Denver:20260411T160000
DTSTAMP:20260422T190525
CREATED:20260411T132009Z
LAST-MODIFIED:20260411T132009Z
UID:252422-1775916000-1775923200@americanparkour.com
SUMMARY:Free Parkour Sessions!
DESCRIPTION:Free parkour sessions at Fountain Mesa Park in Fountain\, Colorado — open to all ages\, stages\, and abilities. Organized by Pure Parkour Inc\, a non-profit working to build a parkour gym in Colorado Springs.
URL:https://americanparkour.com/event-frame/free-parkour-sessions/
CATEGORIES:Community Event
END:VEVENT
END:VCALENDAR